BEGIN:VCALENDAR
VERSION:2.0
PRODID:-//Spring Creek Volunteer Fire Department - ECPv6.15.17.1//NONSGML v1.0//EN
CALSCALE:GREGORIAN
METHOD:PUBLISH
X-WR-CALNAME:Spring Creek Volunteer Fire Department
X-ORIGINAL-URL:https://www.springcreekvfd.org
X-WR-CALDESC:Events for Spring Creek Volunteer Fire Department
REFRESH-INTERVAL;VALUE=DURATION:PT1H
X-Robots-Tag:noindex
X-PUBLISHED-TTL:PT1H
BEGIN:VTIMEZONE
TZID:America/Los_Angeles
BEGIN:DAYLIGHT
TZOFFSETFROM:-0800
TZOFFSETTO:-0700
TZNAME:PDT
DTSTART:20270314T100000
END:DAYLIGHT
BEGIN:STANDARD
TZOFFSETFROM:-0700
TZOFFSETTO:-0800
TZNAME:PST
DTSTART:20271107T090000
END:STANDARD
BEGIN:DAYLIGHT
TZOFFSETFROM:-0800
TZOFFSETTO:-0700
TZNAME:PDT
DTSTART:20280312T100000
END:DAYLIGHT
BEGIN:STANDARD
TZOFFSETFROM:-0700
TZOFFSETTO:-0800
TZNAME:PST
DTSTART:20281105T090000
END:STANDARD
BEGIN:DAYLIGHT
TZOFFSETFROM:-0800
TZOFFSETTO:-0700
TZNAME:PDT
DTSTART:20290311T100000
END:DAYLIGHT
BEGIN:STANDARD
TZOFFSETFROM:-0700
TZOFFSETTO:-0800
TZNAME:PST
DTSTART:20291104T090000
END:STANDARD
END:VTIMEZONE
BEGIN:VEVENT
DTSTART;TZID=America/Los_Angeles:20280403T180000
DTEND;TZID=America/Los_Angeles:20280403T200000
DTSTAMP:20260420T090939
CREATED:20190614T192501Z
LAST-MODIFIED:20190614T192501Z
UID:2271-1838397600-1838404800@www.springcreekvfd.org
SUMMARY:Buisness Meeting
DESCRIPTION:Business meetings held 1st Monday of every month at 6:30pm
URL:https://www.springcreekvfd.org/event/buisness-meeting/2028-04-03/
END:VEVENT
BEGIN:VEVENT
DTSTART;TZID=America/Los_Angeles:20280404T183000
DTEND;TZID=America/Los_Angeles:20280404T193000
DTSTAMP:20260420T090939
CREATED:20190614T201238Z
LAST-MODIFIED:20190614T201238Z
UID:2272-1838485800-1838489400@www.springcreekvfd.org
SUMMARY:Training
DESCRIPTION:Training takes place 1st & 3rd Tuesdays of every month at 6:30pm  at 5 Licht Parkway\, near the roundabout.
URL:https://www.springcreekvfd.org/event/training/2028-04-04/
END:VEVENT
END:VCALENDAR